BEGIN:VCALENDAR
VERSION:2.0
PRODID:-//BSL Educational Foundation, Inc. - ECPv6.15.20//NONSGML v1.0//EN
CALSCALE:GREGORIAN
METHOD:PUBLISH
X-ORIGINAL-URL:https://bsleducation.org
X-WR-CALDESC:Events for BSL Educational Foundation, Inc.
REFRESH-INTERVAL;VALUE=DURATION:PT1H
X-Robots-Tag:noindex
X-PUBLISHED-TTL:PT1H
BEGIN:VTIMEZONE
TZID:America/New_York
BEGIN:DAYLIGHT
TZOFFSETFROM:-0500
TZOFFSETTO:-0400
TZNAME:EDT
DTSTART:20190310T070000
END:DAYLIGHT
BEGIN:STANDARD
TZOFFSETFROM:-0400
TZOFFSETTO:-0500
TZNAME:EST
DTSTART:20191103T060000
END:STANDARD
BEGIN:DAYLIGHT
TZOFFSETFROM:-0500
TZOFFSETTO:-0400
TZNAME:EDT
DTSTART:20200308T070000
END:DAYLIGHT
BEGIN:STANDARD
TZOFFSETFROM:-0400
TZOFFSETTO:-0500
TZNAME:EST
DTSTART:20201101T060000
END:STANDARD
BEGIN:DAYLIGHT
TZOFFSETFROM:-0500
TZOFFSETTO:-0400
TZNAME:EDT
DTSTART:20210314T070000
END:DAYLIGHT
BEGIN:STANDARD
TZOFFSETFROM:-0400
TZOFFSETTO:-0500
TZNAME:EST
DTSTART:20211107T060000
END:STANDARD
END:VTIMEZONE
BEGIN:VEVENT
DTSTART;TZID=America/New_York:20200627T070000
DTEND;TZID=America/New_York:20200627T150000
DTSTAMP:20260425T224604
CREATED:20200614T013358Z
LAST-MODIFIED:20200614T143056Z
UID:1825-1593241200-1593270000@bsleducation.org
SUMMARY:Let's Go Fishing!!!
DESCRIPTION:BSL Educational Foundation Inc\, Let’s Go Fishing program targets area youth and adults who would love to experience the sport of fishing\, but don’t have the access or the means to give it a try. \nAll excursions are led by trained volunteers. This trip covers fish types\, habitat\, how to read a lake map\, knots and other fun fishing facts\, all tied in with a corresponding life lesson. \nThe program is designed to get youth and adults interested in fishing and give them the opportunity to experience getting out on the water to give it a try. \nWe are so excited to be building this program for the youth of the communities in our area to introduce fishing and boating to children that wouldn’t have the chance any other way. \nBSL Educational Foundation Inc\, Let’s Go Fishing (LGF) provides the boat\, the captain\, and the mate to help with baiting and handling the fish\, plus all the necessary equipment and supplies to make it a successful trip. \n  \n  \n\nJune 27\, 2020\n7:00a.m.- 3:00p.m.\nCost: Adults $50  Children (up to 16) $25 (Doesn’t include tip)\nIncludes fishing rod and bait\n Lunch and Snack Provided
URL:https://bsleducation.org/event/lets-go-fishing/
LOCATION:CT
ATTACH;FMTTYPE=image/jpeg:https://bsleducation.org/wp-content/uploads/2020/06/600-01072856en_Masterfile.jpg
END:VEVENT
END:VCALENDAR