BEGIN:VCALENDAR
VERSION:2.0
PRODID:-//BSL Educational Foundation, Inc. - ECPv6.15.20//NONSGML v1.0//EN
CALSCALE:GREGORIAN
METHOD:PUBLISH
X-ORIGINAL-URL:https://bsleducation.org
X-WR-CALDESC:Events for BSL Educational Foundation, Inc.
REFRESH-INTERVAL;VALUE=DURATION:PT1H
X-Robots-Tag:noindex
X-PUBLISHED-TTL:PT1H
BEGIN:VTIMEZONE
TZID:America/New_York
BEGIN:DAYLIGHT
TZOFFSETFROM:-0500
TZOFFSETTO:-0400
TZNAME:EDT
DTSTART:20190310T070000
END:DAYLIGHT
BEGIN:STANDARD
TZOFFSETFROM:-0400
TZOFFSETTO:-0500
TZNAME:EST
DTSTART:20191103T060000
END:STANDARD
BEGIN:DAYLIGHT
TZOFFSETFROM:-0500
TZOFFSETTO:-0400
TZNAME:EDT
DTSTART:20200308T070000
END:DAYLIGHT
BEGIN:STANDARD
TZOFFSETFROM:-0400
TZOFFSETTO:-0500
TZNAME:EST
DTSTART:20201101T060000
END:STANDARD
BEGIN:DAYLIGHT
TZOFFSETFROM:-0500
TZOFFSETTO:-0400
TZNAME:EDT
DTSTART:20210314T070000
END:DAYLIGHT
BEGIN:STANDARD
TZOFFSETFROM:-0400
TZOFFSETTO:-0500
TZNAME:EST
DTSTART:20211107T060000
END:STANDARD
END:VTIMEZONE
BEGIN:VEVENT
DTSTART;TZID=America/New_York:20200801T200000
DTEND;TZID=America/New_York:20200801T223000
DTSTAMP:20260425T190755
CREATED:20200715T022955Z
LAST-MODIFIED:20200730T165858Z
UID:1992-1596312000-1596321000@bsleducation.org
SUMMARY:Family Drive-In Movie Night showing Black Panther
DESCRIPTION:SOLD OUT \n  \nGetting out of the house to enjoy a family outing has been no simple task. Gather your family\, load your car\, pack your snacks\, and join us for a pop up movie experience. This is a FREE family outing with an emphasis on community\, fun and safety\, hosted by My People Community Services\, Tyron V. Harris\, East Hartford School Board member\,  BSL Educational Foundation Inc.\, Alpha Kappa Alpha Sorority Inc.\, Omicron Omega Chapter. \nThe movie will be screened on an LED movie screen\, providing viewers with clear and vibrant images. For sound\, attendees will scan their radio to a designated station. \nSocial distancing will be strictly enforced. In order to adhere to all social distancing mandates\, we ask attendees to stay in the car once parked. All parking spots are first come\, first served. A port-a-let restroom will be available\, along with hand sanitizer and Lysol spray. \nAugust 1\, 2020\nBlack Panther\n8:00-10:30 p.m.\n**Showcase Cinemas-East Hartford Parking Lot**\n936 Silver Lane\, East Hartford\, CT 06118\n(Next to Burlington Coat Factory)\nFREE Admission.\nALL ARE WELCOME
URL:https://bsleducation.org/event/blackpanther/
LOCATION:CT
END:VEVENT
END:VCALENDAR