BEGIN:VCALENDAR
VERSION:2.0
PRODID:-//BSL Educational Foundation, Inc. - ECPv6.15.20//NONSGML v1.0//EN
CALSCALE:GREGORIAN
METHOD:PUBLISH
X-WR-CALNAME:BSL Educational Foundation, Inc.
X-ORIGINAL-URL:https://bsleducation.org
X-WR-CALDESC:Events for BSL Educational Foundation, Inc.
REFRESH-INTERVAL;VALUE=DURATION:PT1H
X-Robots-Tag:noindex
X-PUBLISHED-TTL:PT1H
BEGIN:VTIMEZONE
TZID:America/New_York
BEGIN:DAYLIGHT
TZOFFSETFROM:-0500
TZOFFSETTO:-0400
TZNAME:EDT
DTSTART:20190310T070000
END:DAYLIGHT
BEGIN:STANDARD
TZOFFSETFROM:-0400
TZOFFSETTO:-0500
TZNAME:EST
DTSTART:20191103T060000
END:STANDARD
BEGIN:DAYLIGHT
TZOFFSETFROM:-0500
TZOFFSETTO:-0400
TZNAME:EDT
DTSTART:20200308T070000
END:DAYLIGHT
BEGIN:STANDARD
TZOFFSETFROM:-0400
TZOFFSETTO:-0500
TZNAME:EST
DTSTART:20201101T060000
END:STANDARD
BEGIN:DAYLIGHT
TZOFFSETFROM:-0500
TZOFFSETTO:-0400
TZNAME:EDT
DTSTART:20210314T070000
END:DAYLIGHT
BEGIN:STANDARD
TZOFFSETFROM:-0400
TZOFFSETTO:-0500
TZNAME:EST
DTSTART:20211107T060000
END:STANDARD
END:VTIMEZONE
BEGIN:VEVENT
DTSTART;TZID=America/New_York:20200808T200000
DTEND;TZID=America/New_York:20200808T223000
DTSTAMP:20260425T190415
CREATED:20200720T204919Z
LAST-MODIFIED:20200724T034211Z
UID:1997-1596916800-1596925800@bsleducation.org
SUMMARY:Dad + Family Drive-In Movie Night Finding Nemo
DESCRIPTION:Join us for the Dad’s + Family Drive-In Movie Night showing Finding Nemo in celebration of the important role Dads play in the lives of their children. \nGetting out of the house to enjoy a family outing has been no simple task. Gather your family\, load your car\, pack your snacks\, and join us for a pop up movie experience. This is a FREE family outing with an emphasis on community\, fun and safety\, hosted by My People Community Services\, Tyron V. Harris\, East Hartford School Board member\,  BSL Educational Foundation Inc.\, Alpha Kappa Alpha Sorority Inc.\, Omicron Omega Chapter. \nSpecial thank you to our sponsors: Town of East Hartford\, East Hartford Police Dept\, Phi Beta Sigma Fraternity Inc.\, Delta Pi Sigma Chapter\, Kappa Alpha Psi\, Hartford Alumni Chapter\, Alpha Kappa Alpha Sorority Inc.\, Omicron Omega Chapter\, Delta Sigma Theta\, Hartford Alumnae Chapter\, and the Urban League of Greater Hartford. \nThe movie will be screened on an LED movie screen\, providing viewers with clear and vibrant images. For sound\, attendees will scan their radio to a designated station. \nSocial distancing will be strictly enforced. In order to adhere to all social distancing mandates\, we ask attendees to stay in the car once parked. All parking spots are first come\, first served. A port-a-let restroom will be available\, along with hand sanitizer and Lysol spray. \nAugust 8th 2020 \n8:00pm-10:30pm \n***Showcase Cinemas-East Hartford Parking Lot*** \n936 Silver Lane\, East Hartford\, CT 06118 \nnext to Burlington Coat Factory \nFREE Admission. ALL AGES ARE WELCOMED.
URL:https://bsleducation.org/event/nemo/
LOCATION:CT
END:VEVENT
END:VCALENDAR