BEGIN:VCALENDAR
VERSION:2.0
PRODID:-//BSL Educational Foundation, Inc. - ECPv6.15.20//NONSGML v1.0//EN
CALSCALE:GREGORIAN
METHOD:PUBLISH
X-WR-CALNAME:BSL Educational Foundation, Inc.
X-ORIGINAL-URL:https://bsleducation.org
X-WR-CALDESC:Events for BSL Educational Foundation, Inc.
REFRESH-INTERVAL;VALUE=DURATION:PT1H
X-Robots-Tag:noindex
X-PUBLISHED-TTL:PT1H
BEGIN:VTIMEZONE
TZID:America/New_York
BEGIN:DAYLIGHT
TZOFFSETFROM:-0500
TZOFFSETTO:-0400
TZNAME:EDT
DTSTART:20230312T070000
END:DAYLIGHT
BEGIN:STANDARD
TZOFFSETFROM:-0400
TZOFFSETTO:-0500
TZNAME:EST
DTSTART:20231105T060000
END:STANDARD
BEGIN:DAYLIGHT
TZOFFSETFROM:-0500
TZOFFSETTO:-0400
TZNAME:EDT
DTSTART:20240310T070000
END:DAYLIGHT
BEGIN:STANDARD
TZOFFSETFROM:-0400
TZOFFSETTO:-0500
TZNAME:EST
DTSTART:20241103T060000
END:STANDARD
BEGIN:DAYLIGHT
TZOFFSETFROM:-0500
TZOFFSETTO:-0400
TZNAME:EDT
DTSTART:20250309T070000
END:DAYLIGHT
BEGIN:STANDARD
TZOFFSETFROM:-0400
TZOFFSETTO:-0500
TZNAME:EST
DTSTART:20251102T060000
END:STANDARD
END:VTIMEZONE
BEGIN:VEVENT
DTSTART;TZID=America/New_York:20240921T054500
DTEND;TZID=America/New_York:20240921T140000
DTSTAMP:20260421T213458
CREATED:20240827T044825Z
LAST-MODIFIED:20240907T182042Z
UID:2267-1726897500-1726927200@bsleducation.org
SUMMARY:Casting Memories: A Family Fishing Experience - SOLD OUT!
DESCRIPTION:BSL Educational Foundation Inc. and the Town of Bloomfield\, CT\, presents\nCasting Memories: A Family Fishing Experience\n\nTHIS EVENT IS SOLD OUT!!!\n\nDate 9/21/2024\nDeparture: 5:45 am\nReturn: 2:00 pm\nThe Black Hawk\nAddress:  11 East Main Street\, Niantic\, CT 06357\n\nContact:\nbsleducationorg@gmail.com\n\nCost:\nYouth 16 and under: $19.06\nYoung adults 17 and up $34.06
URL:https://bsleducation.org/event/casting-memories-a-family-fishing-experience/
LOCATION:The Black Hawk\, 11 East Main Street\, Niantic\, CT\, 06357\, United States
ATTACH;FMTTYPE=image/jpeg:https://bsleducation.org/wp-content/uploads/2024/08/Casting-Memories-Fishing-Trip-Flyer-1.jpg
END:VEVENT
END:VCALENDAR