BEGIN:VCALENDAR
VERSION:2.0
PRODID:-//BSL Educational Foundation, Inc. - ECPv6.15.20//NONSGML v1.0//EN
CALSCALE:GREGORIAN
METHOD:PUBLISH
X-WR-CALNAME:BSL Educational Foundation, Inc.
X-ORIGINAL-URL:https://bsleducation.org
X-WR-CALDESC:Events for BSL Educational Foundation, Inc.
REFRESH-INTERVAL;VALUE=DURATION:PT1H
X-Robots-Tag:noindex
X-PUBLISHED-TTL:PT1H
BEGIN:VTIMEZONE
TZID:UTC
BEGIN:STANDARD
TZOFFSETFROM:+0000
TZOFFSETTO:+0000
TZNAME:UTC
DTSTART:20150101T000000
END:STANDARD
END:VTIMEZONE
BEGIN:VEVENT
DTSTART;TZID=UTC:20160909T060000
DTEND;TZID=UTC:20160909T170000
DTSTAMP:20260425T090444
CREATED:20160909T164411Z
LAST-MODIFIED:20160909T164411Z
UID:339-1473400800-1473440400@bsleducation.org
SUMMARY:Project Alpha at CREC Two Rivers Magnet High School
DESCRIPTION:* In partnership with local police departments\, the Foundation will host a series of facilitated sessions.
URL:https://bsleducation.org/event/project-alpha-at-crec-two-rivers-magnet-high-school/
END:VEVENT
END:VCALENDAR